BEGIN:VCALENDAR
VERSION:2.0
PRODID:-//The Jamaican Bar Association - ECPv6.0.7//NONSGML v1.0//EN
CALSCALE:GREGORIAN
METHOD:PUBLISH
X-WR-CALNAME:The Jamaican Bar Association
X-ORIGINAL-URL:https://www.jambar.org
X-WR-CALDESC:Events for The Jamaican Bar Association
REFRESH-INTERVAL;VALUE=DURATION:PT1H
X-Robots-Tag:noindex
X-PUBLISHED-TTL:PT1H
BEGIN:VTIMEZONE
TZID:America/Jamaica
BEGIN:STANDARD
TZOFFSETFROM:-0500
TZOFFSETTO:-0500
TZNAME:EST
DTSTART:20250101T000000
END:STANDARD
END:VTIMEZONE
BEGIN:VEVENT
DTSTART;TZID=America/Jamaica:20250524T090000
DTEND;TZID=America/Jamaica:20250524T133000
DTSTAMP:20260421T084512
CREATED:20250429T162127Z
LAST-MODIFIED:20250429T162217Z
UID:2448-1748077200-1748093400@www.jambar.org
SUMMARY:BYOF (BRING YOUR OWN FILES) WORKSHOP#1
DESCRIPTION:IT’S BACK!!\nJAMBARCLE IN PARTNERSHIP WITH THE NATIONAL LAND AGENCY BRINGS YOU\nTHE FIRST IN THE SERIES OF: \nBYOF (BRING YOUR OWN FILES) WORKSHOPS \nPRESENTERS \n\nLISA-MARIE KNIGHT\nJODY-ANN GAFF\nSTEPHANIE MACLEAN\nSARAH BAILEY\n\nPURPOSE OF THE WORKSHOP \n\nTo assist attorneys who practice conveyancing with any issues they have with their files\nAttorneys bring your files and askyour questions\n\nMAY 24\, 2025 9:00AM-1:30PM\nREGISTRATION FEES \n\nPAIDUPMEMBERS$12\,500.00\nNON-PAIDUPMEMBERS$15\,000.00\n\nMINISTRY OF JUSTICE’S CONFERENCE ROOM\n61CONSTANT SPRING ROAD KGN 10 \nLIQUID COFEE BREAK & LUNCH INCLUDED \nSPACE FOR MAXIMUNM 60 ATTENDEES \n 
URL:https://www.jambar.org/event/byof-bring-your-own-files-workshop1/
CATEGORIES:Jambar Face-toFace Events
ATTACH;FMTTYPE=image/jpeg:https://www.jambar.org/wp-content/uploads/2025/04/chrome_DPNRtmg3ZI.jpg
END:VEVENT
END:VCALENDAR